Workbook

Sheet Questionnaire
D2: Davis CPA & Associates, LLC | S2: 3490 Ridgewood Road Suite H Fairlawn, OH 44333
D3: 2016 TAX QUESTIONNAIRE | S3: (330) 665-9405 (Phone) | Z3: (888) 404-7029 (Fax)
A5: Please make sure this questionnaire is saved to your computer before you fill it out.
B6: Davis CPA & Associates, LLCs holds the right to ask for paper documentation of any or all of the information provided.
A7: General Information
G9: TAXPAYER | W9: SPOUSE
Q10: Complete the applicable spouse fields if married as of Dec. 31, 2016
F11: Last Name: | V11: Last Name:
F12: First Name: | V12: First Name:
F13: Middle Initial: | V13: Middle Initial:
F14: Social Security #: | V14: SSN or ITIN:
F15: Date of Birth: | V15: Date of Birth:
F16: Current Employer: | V16: Current Employer:
F17: Occupation in 2016: | V17: Occupation in 2016:
F19: Filing Status: | H19: Married Filing Joint | N19: Married Filing Separate | U19: Head of Household | AA19: Single
C20: (Select one)
F22: Deductions: | H22: Standard | L22: Itemized
C23: (Select one)
B25: Referred By: | O25: (new clients)
A27: Contact Information
B29: Primarily, you will be contacted by email.
B31: Email | F31: ü | G31: next to primary email address | T31: Telephone:
B32: Email Work: | V32: Work
B33: Email Personal: | V33: Mobile
B34: Email Other: | V34: Home
B36: Current Address: (street, city, state, zip) | X36: From (mm/dd/yy) | AC36: To (mm/dd/yy)
B39: Mailing Address for IRS correspondence, if different (i.e., PO Box, work address, etc.)
A42: Residency & Employers
B44: Complete if you lived at any other location during 2016:
B45: Taxpayer (T), Spouse (S), Joint (J)
B46: T/S/J | D46: Address (street, city, state, zip) | X46: From (mm/dd/yy) | AC46: To (mm/dd/yy)
B47: T | D47: =B37 -> 0
B52: Employers during 2016:
B53: Taxpayer (T), Spouse (S) | AB53: Where worked
B54: T/S | D54: Employer: | K54: Occupation | R54: From | W54: To | AB54: (state or country)
B55: T | D55: =G16 -> 0 | K55: =G17 -> 0
A60: Dependents
AA61: Childcare Expenses
B62: (Do not list spouse) | Q62: Date of Birth | AA62: While You Are At Work*
B63: First Name, Initial, Last Name | K63: SSN or ITIN | Q63: (mm/dd/yy) | V63: Relationship to You | AA63: (incurred & paid in 2016)
...

Sheet Trades
A1: Davis CPA & Associaties, LLC | E1: 3490 Ridgewood Road Suite H, Fairlawn OH 44333
A2: Certified Public Accounting Firm | E2: (330) 665-9405 (Phone) | H2: (888) 404-7029 (Fax)
D3: 2016 Capital Gains and Losses (Schedule D)
C5: Name: | D5: =CONCATENATE(Questionnaire!G12," ",Questionnaire!G11)
C6: SSN: | D6: =Questionnaire!G14 -> 0
C8: SHORT TERM Capital Gains and Losses - Assets Held One Year or Less
C9: Part I, Line 1
C10: Number of | E10: Date | F10: Date | G10: Sales | H10: Cost
B11: T/S/J | C11: Shares | D11: Name of Security | E11: Acquired | F11: Sold | G11: Price | H11: Basis | I11: Gain/Loss
I13: =G13-H13 -> 0
I14: =G14-H14 -> 0
I15: =G15-H15 -> 0
I16: =G16-H16 -> 0
I17: =G17-H17 -> 0
I18: =G18-H18 -> 0
I19: =G19-H19 -> 0
I20: =G20-H20 -> 0
I21: =G21-H21 -> 0
I22: =G22-H22 -> 0
I23: =G23-H23 -> 0
I24: =G24-H24 -> 0
... I29: =G29-H29 -> 0
I30: 0
G31: =SUM(G13:G30) -> 0 | H31: =SUM(H13:H30) -> 0 | I31: =SUM(I13:I30) -> 0 | L31: =G31-H31 -> 0 | M31: =IF(I31=L31, "OK", "ERROR - Check gain/loss formula") -> OK
C33: LONG TERM Capital Gains and Losses - Assets Held More Than One Year
C34: Part II, Line 8
C35: Number of | E35: Date | F35: Date | G35: Sales | H35: Cost
B36: T/S/J | C36: Shares | D36: Name of Security | E36: Acquired | F36: Sold | G36: Price | H36: Basis | I36: Gain/Loss
I38: =G38-H38 -> 0
I39: =G39-H39 -> 0
I40: =G40-H40 -> 0
I41: =G41-H41 -> 0
I42: =G42-H42 -> 0
I43: =G43-H43 -> 0
I44: =G44-H44 -> 0
I45: =G45-H45 -> 0
I46: =G46-H46 -> 0
I47: =G47-H47 -> 0
I48: =G48-H48 -> 0
I49: 0
...

Sheet Self Employment
A1: Davis CPA & Associaties, LLC | J1: 3490 Ridgewood Road Suite H Fairlawn OH 44333 | W1: (330) 665-9405 (Phone)
A2: Certified Public Accounting Firm | W2: (888) 404-7029 (Fax)
A3: 2016 Self-Employment Information
A4: Please fill in all fields that apply to you.
C6: Taxpayer: | F6: =CONCATENATE(Questionnaire!G12," ",Questionnaire!G11) | S6: Spouse: | V6: =CONCATENATE(Questionnaire!W12," ",Questionnaire!W11)
A8: Type of Business: | Q8: Type of Business:
A9: (please be specific, e.g., if consultant, in what field?)
A11: Business Address: | Q11: Business Address:
A12: (if different from home)
A14: Business Name: | Q14: Business Name:
A15: (if not your own name) | Q15: (if not your own name)
A16: EIN Number: | Q16: EIN Number:
A17: (if applicable) | Q17: (if applicable)
A19: Self-Employment Income
F20: TAXPAYER | V20: SPOUSE
B21: Reported on Form 1099-MISC
B22: Payer | K22: Amount | S22: Payer | AB22: Amount
J23: $ | AA23: $
J24: $ | AA24: $
J25: $ | AA25: $
J26: $ | AA26: $
J27: $ | AA27: $
J28: $ | AA28: $
B30: Cash Income | J30: $ | S30: Cash Income | AA30: $
A32: Self Employment Expenses
F33: TAXPAYER | V33: SPOUSE
K34: Amount | AB34: Amount
B35: Advertising | J35: $ | S35: Advertising | AA35: $
B36: Health Insurance | J36: $ | S36: Health Insurance | AA36: $
B37: Other Insurance | J37: $ | S37: Other Insurance | AA37: $
A38: Tax Preparation Fee Paid in 2016 | J38: $ | R38: Tax Preparation Fee Paid in 2016 | AA38: $
A39: Other Legal/Professional Fees | J39: $ | S39: Computer Equipment | AA39: $
B40: Computer Equipment | J40: $ | R40: Other Legal/Professional Fees | AA40: $
B41: Office Supplies | J41: $ | S41: Office Supplies | AA41: $
B42: Office Rent (other than home) | J42: $ | S42: Office Rent (other than home) | AA42: $
B43: Repairs | J43: $ | S43: Repairs | AA43: $
C44: Supplies (other than office) | J44: $ | T44: Supplies (other than office) | AA44: $
B45: Travel & Lodging | J45: $ | S45: Travel & Lodging | AA45: $
B46: Meals & Entertainment | J46: $ | S46: Meals & Entertainment | AA46: $
C47: Research | J47: $ | T47: Research | AA47: $
...

Sheet Foreign Income
A1: Davis CPA & Associaties, LLC | K1: 3490 Ridgewood Road Suite H, Fairlawn, OH 44333 | AA1: (330) 665-9405 (Phone)
A2: Certified Public Accounting Firm | AA2: (888) 404-7029 (Fax)
A3: 2016 Foreign Income & Accounts
A5: Foreign Income
B7: All tax residents filing Form 1040 are required to report worldwide income.
B9: Please do not include any foreign income & foreign tax payments that are reported on Form 1099-DIV
A11: Taxpayer (T), Spouse (S), Joint (J) | AH11: If using other than
C12: Type of Income: | O12: Currency | S12: Gross Income | W12: Income Converted | AA12: Gross Tax Paid | AE12: Tax Converted | AH12: average exchange rate:
A13: T/S/J | C13: (wages, interest, etc.) | I13: Name of Payer | O13: (euro, etc.) | S13: (foreign currency) | W13: to US Dollars* | AA13: (foreign currency) | AE13: to US Dollars* | AH13: Exchange Rate | AI13: Date(s) of Exchange
U15: $ | AC15: $
U16: $ | AC16: $
U17: $ | AC17: $
U18: $ | AC18: $
U19: $ | AC19: $
U20: $ | AC20: $
U21: $ | AC21: $
A23: Note: The currencies below are averages for 2015. Because currencies can vary considerably throughout the year, if you had
A24: income that was not spread throughout 2015, but instead paid at a specific time or over a specific time period, you may convert
A25: your income at that exchange rate. If you use a different exchange rate, please indicate the rate used and the date(s) to which
A26: it applies.
E27: Currency Converter | N27: Average | Q27: Foreign Currency | V27: US Dollar
N28: 2015 | R28: Amount | V28: Conversion
E29: EMU MEMBERS | K29: Euro | N29: 1.28577 | V29: =ROUND(R29*N29, 2) -> 0
E30: UNITED KINGDOM | K30: Pound | N30: 1.58474 | V30: =ROUND(R30*N30, 2) -> 0
E31: AUSTRALIA | K31: Dollar | N31: 1.03554 | V31: =ROUND(R31*N31, 2) -> 0
E32: BRAZIL | K32: Real | N32: 0.51333 | V32: =ROUND(R32*N32, 2) -> 0
E33: CANADA | K33: Dollar | N33: 1.0002 | V33: =ROUND(R33*N33, 2) -> 0
E34: CHINA | K34: Yuan | N34: 0.15823 | V34: =ROUND(R34*N34, 2) -> 0
E35: HONG KONG | K35: Dollar | N35: 0.1289 | V35: =ROUND(R35*N35, 2) -> 0
E36: INDIA | K36: Rupee | N36: 0.01863 | V36: =ROUND(R36*N36, 2) -> 0
E37: JAPAN | K37: Yen | N37: 0.01254 | V37: =ROUND(R37*N37, 2) -> 0
E38: MEXICO | K38: Peso | N38: 0.07601 | V38: =ROUND(R38*N38, 2) -> 0
E39: NEW ZEALAND | K39: Dollar | N39: 0.80989 | V39: =ROUND(R39*N39, 2) -> 0
E40: POLAND | K40: Zloty | N40: 0.30702 | V40: =ROUND(R40*N40, 2) -> 0
... E44: SWITZERLAND | K44: Franc | N44: 1.06668 | V44: =ROUND(R44*N44, 2) -> 0
A46: Foreign Accounts
B48: If you had, in all foreign accounts combined, over $10,000 at any time during 2016, please provide information below for
B49: each account. This is required to be reported to the Treasury Department. Noncompliance could result in severe penalties.
A51: Taxpayer (T), Spouse (S), Joint (J)
A52: T/S/J | D52: Type of Account: | M52: Account Number: | W52: Name of Financial Institution
...

Sheet Employee
A1: Davis CPA & Associaties, LLC | K1: 3490 Ridgewood Road Suite H, Fairlawn, OH 44333 | Y1: (330) 665-9405 (Phone)
A2: Certified Public Accounting Firm | Y2: (888) 404-7029 (Fax)
E3: 2016 Unreimbursed Employee Business Expenses
K4: General - Vehicle - Home Office
B6: Taxpayer: | E6: =CONCATENATE(Questionnaire!G12," ",Questionnaire!G11) | Q6: Spouse: | T6: =CONCATENATE(Questionnaire!W12," ",Questionnaire!W11)
B8: Occupation | E8: =Questionnaire!G17 -> 0 | Q8: Occupation | T8: =Questionnaire!W17 -> 0
B10: Please only list unreimbursed expenses related to W-2 income!
B12: Note: If your combined employee business expenses do not add up to more than 2% of your adjusted gross income, they will not be deductible.
A15: General Expenses
B17: For examples of what can and cannot be deducted, please see the | S17: List of Deductions
K19: TAXPAYER | O19: SPOUSE
B21: Travel & Lodging (out of town): | J21: $ | N21: $
B22: Meals & Entertainment* | J22: $ | N22: $
B23: Business Gifts (limit $25 a person) | J23: $ | N23: $
B24: Seminars/Training: | J24: $ | N24: $
B25: Trade Publications: | J25: $ | N25: $
B26: Computer Equipment: | J26: $ | N26: $
B27: Computer Supplies: | J27: $ | N27: $
B28: Office Supplies: | J28: $ | N28: $
B29: Telephone (business use): | J29: $ | N29: $
B30: Internet (business use): | J30: $ | N30: $
B31: Postage/Courier | J31: $ | N31: $
B32: Other: Description
J33: $ | N33: $
J34: $ | N34: $
J35: $ | N35: $
J36: $ | N36: $
J37: $ | N37: $
A39: Vehicle Expenses
A41: Related to W-2 Income
A43: *Commuting is not deductible, so please do not include it in your business mileage figure. Commuting means your trip from home to office and then from office to home. Other trips for business during the day would count, however.
F46: TAXPAYER | V46: SPOUSE
A48: Year, make and model | Q48: Year, make and model
A49: Dates used: | F49: From | K49: to | Q49: Dates used: | V49: From | AA49: to
A50: Total miles for the year | Q50: Total miles for the year
A51: Total business* miles | Q51: Total business* miles
A52: Is another vehicle available for personal use: | Q52: Is another vehicle available for personal use:
A53: Is your vehicle leased? | Q53: Is your vehicle leased?
K54: If owned, purchase price of vehicle $ | AA54: If owned, purchase price of vehicle $
A55: Date of purchase | Q55: Date of purchase
...

Sheet Rental
A1: Davis CPA & Associaties, LLC | K1: 3490 Ridgewood Road Suite H, Fairlawn, OH 44333 | Y1: (330) 665-9405 (Phone)
A2: Certified Public Accounting Firm | Y2: (888) 404-7029 (Fax)
H3: 2016 Rental Property Worksheet
A5: General Information:
B7: Taxpayer: | Q7: Spouse: | T7: =CONCATENATE(Questionnaire!W12," ",Questionnaire!W11)
B9: If married, is the house owned jointly? | P9: → | Q9: If not, who is the owner?
B10: Do you [and spouse] own 100% of the property? | R10: → | S10: If not, list ownership percentage
B12: Address of property:
B14: Date property was placed in service (made available for rent). This can be in a past year:
B16: Date, if any, property was no longer available for rent:
B18: Is the entire property available for rental use? | Q18: → | R18: If not, percentage rented out
A20: Rental Income and Expenses
B22: Rental income for the entire tax year: | M22: $
B24: Rental Expenses: | K24: Amount
B25: Advertising | J25: $
B26: Travel | J26: $
B27: Cleaning & Maintenance | J27: $
B28: Commissions | J28: $ | O28: Rental amount (if not fully rented)
B29: Insurance | J29: $ | O29: =Z18 -> 0 | Q29: $ | R29: =K29*O29 -> 0
B30: Legal & Professional Fees | J30: $
B31: Management Fees | J31: $
B32: HOA Fees | J32: $
B33: Mortgage Interest | J33: $ | O33: =Z18 -> 0 | Q33: $ | R33: =K33*O33 -> 0
B34: Real estate taxes | J34: $ | O34: =Z18 -> 0 | Q34: $ | R34: =K34*O34 -> 0
B35: Repairs | J35: $
B36: Supplies | J36: $
B37: Water & Sewer | J37: $ | O37: =Z18 -> 0 | Q37: $ | R37: =K37*O37 -> 0
B38: Garbage Removal | J38: $ | O38: =Z18 -> 0 | Q38: $ | R38: =K38*O38 -> 0 | AA38: `
B39: Utilities | J39: $ | O39: =Z19 -> 0 | Q39: $ | R39: =K39*O39 -> 0
B40: Garden Maintenance | J40: $ | O40: =Z21 -> 0 | Q40: $ | R40: =K40*O40 -> 0
B41: Description
J42: $
J43: $
J44: $
B46: List any capital improvements made to the property during the tax year:
B47: These are improvements made to your home that add to its value, prolong its useful life, or adapt it to new uses.
B48: (Examples include replacements or additions such as roof, carpet, boiler, rooms, patio, driveway,
B49: central air, windows, etc.)
B51: Type of Improvement | K51: Cost | O51: Date
J52: $
...

Sheet Education
A1: Davis CPA and Associaties, LLC | K1: 3490 Ridgewood Road Suite H, Fairlawn, OH 44333 | Y1: (330) 665-9405 (Phone)
A2: Certified Public Accounting Firm | Y2: (888) 404-7029 (Fax)
A3: 2016 Higher Education
A5: Degree/Program Study at Eligible Educational Institution during 2016
B7: TAXPAYER
B9: SPOUSE
B11: * Other, Specify:
B13: Name of college or university attended:
A15: Tuition & Fees Paid in 2016
L17: TAXPAYER | P17: SPOUSE
B18: Total amount of tuition & fees | K18: $ | O18: $
B19: Required books & supplies | K19: $ | O19: $
B21: The expenses above may qualify for you for the hope credit, lifetime learning credit, or tuition deduction.
A23: Scholarship and Fellowship Income Received in 2016
B25: $ | F25: 1 | G25: Total amount of scholarship/fellowship grants received
B26: $ | F26: 2 | G26: Amt of line 1 received for performing services (e.g., teaching, research, or any other service).
G27: This should be reported on a Form W2 or Form 1042-S (income codes 16-19). It is taxable as wages.
B28: $ | F28: 3 | G28: (Amt of scholarship received for which no services were performed.)
B29: $ | F29: 4 | G29: Enter the amount from line 3 that your scholarship or fellowship required you to use for anything
G30: other than tuition, fees, books & supplies (e.g., room & board, travel, etc.)
B31: $ | F31: 5
B32: $ | F32: 6 | G32: Enter the amount from line 5 that was used for tuition, fees & required books, supplies.
G33: (This is the tax-free part of your scholarship)
B34: $ | F34: 7
B35: $ | F35: 8 | G35: (This is the taxable part of your scholarship)
B37: Did you participate in an employer provided educational assistance program?
A39: Claiming a credit for your dependent child's tuition
B41: Amount of tuition and fees you paid for your child's college/university education during 2016: | Z41: $
B43: Child must be:
B44: 1 | C44: Claimed as a dependent on your tax return
B45: 2 | C45: Between the ages of 18 and 23 during 2016
B46: 3 | C46: A full-time student
B48: Name of child:
B49: College Attended:
C51: Click here to go back to questionnaire

Sheet List of Deductions
B1: List of Possible Deductions by Category
B5: The list below is not all-inclusive and not all items are deductible all of the time. Many are subject to limitations and many only apply in certain situations or are governed by other rules. Please keep careful records and save your receipts for 3 years in case of audit.
B8: The following are links to each section:
C10: Business Expenses
C11: Expenses you Cannot Deduct
C12: Miscellaneous Schedule A Expenses
C13: Medical Expenses
B15: Business Expenses
B17: Employees:
B18: Includes expenses for your job for which you weren’t reimbursed, but you only get the amount in excess of 2% of your AGI (adjusted gross income), and only if you can itemize. For instance, if your AGI is $100,000, you must have at least $2,000 in employee business expenses before you will begin to benefit from the deduction.
B22: Self-Employed:
B23: You are allowed to deduct most business expenses in full.
B25: Advertising and Promotion Expenses (Self-employed)
B27: Books and Publications
B28: Books, trade journals, newspapers and publications for your trade or profession
B30: Dues and Fees:
B31: Dues to a professional organization for people in your profession
B32: Union dues, initiation fees, and assessments for benefit payments to unemployed union members.
B33: Regulatory fees for your profession
... B42: Business use of computer.
C43: Employees: Must be for the convenience of your employer and required as a condition of your employment.
B44: Supplies and tools you use in your work
B46: Home Office
B47: Expenses for an office in your home IF part of the home is used regularly and exclusively for your work. Employees: the use of your home office must also be for the convenience of your employer.
B50: Internet
B51: Employees: Must be for the convenience of your employer and required as a condition of your employment.
B53: Job hunting expenses (Employees)
B54: To deduct job hunting expenses, you must be looking for a job in your present line of work (i.e., you’re not changing professions or looking for your first job). Expenses include:
B56: Resume preparation (drafting, typing, printing, mailing, faxing)
B57: Employment agency fees
B58: Executive recruiters’ fees
B59: Portfolio preparation costs
B60: Career counseling to assist you in improving your position
... B120: Repairs and maintenance
B121: Business taxes and licenses | M121: Back to top
B123: Expenses You Cannot Deduct
B125: People commonly hope to deduct some of the following expenses, but unfortunately they are not deductible.
B127: Non-Deductible Expenses:
B128: Expenses that were reimbursed by your employer.
B129: Apartment Rent, unless qualified to claim away from home expenses for a business trip expected to last one year or less (Temporary Living Expenses), or if a portion is used as a home office (special rules apply to both cases). Also, may be deductible if maintained for the sole purpose of going to school if your education expenses qualify for the business deduction.
...
